BEGIN:VCALENDAR
VERSION:2.0
PRODID:-//Flaunden Parish Council//Meeting Calendar//EN
CALSCALE:GREGORIAN
METHOD:PUBLISH
BEGIN:VEVENT
UID:71170-20260413@flaundenparish.gov.uk
DTSTAMP:20260421T131540Z
DTSTART;VALUE=DATE:20260413
DTEND;VALUE=DATE:20260414
SUMMARY:Council Meeting &#8211\\; Monday 13 April 2026
DESCRIPTION:Full Council Meeting\nView details: https://flaundenparish.gov.uk/meetings/council-meeting-13-april-2026/
URL:https://flaundenparish.gov.uk/meetings/council-meeting-13-april-2026/
END:VEVENT
END:VCALENDAR
