BEGIN:VCALENDAR
VERSION:2.0
PRODID:-//Flaunden Parish Council//Meeting Calendar//EN
CALSCALE:GREGORIAN
METHOD:PUBLISH
BEGIN:VEVENT
UID:70476-20221212@flaundenparish.gov.uk
DTSTAMP:20260421T100520Z
DTSTART;VALUE=DATE:20221212
DTEND;VALUE=DATE:20221213
SUMMARY:Council Meeting &#8211\\; 12th December 2022
DESCRIPTION:Full Council Meeting\nView details: https://flaundenparish.gov.uk/meetings/council-meeting-12th-december-2022/
URL:https://flaundenparish.gov.uk/meetings/council-meeting-12th-december-2022/
END:VEVENT
END:VCALENDAR
