BEGIN:VCALENDAR
VERSION:2.0
PRODID:-//Flaunden Parish Council//Meeting Calendar//EN
CALSCALE:GREGORIAN
METHOD:PUBLISH
BEGIN:VEVENT
UID:70473-20221107@flaundenparish.gov.uk
DTSTAMP:20260421T113445Z
DTSTART;VALUE=DATE:20221107
DTEND;VALUE=DATE:20221108
SUMMARY:Council Meeting &#8211\\; 7th November 2022
DESCRIPTION:Full Council Meeting\nView details: https://flaundenparish.gov.uk/meetings/council-meeting-7th-november-2022/
URL:https://flaundenparish.gov.uk/meetings/council-meeting-7th-november-2022/
END:VEVENT
END:VCALENDAR
